BEGIN:VCALENDAR
VERSION:2.0
PRODID:-//Model Cities - ECPv6.15.20//NONSGML v1.0//EN
CALSCALE:GREGORIAN
METHOD:PUBLISH
X-ORIGINAL-URL:https://www.modelcities.org
X-WR-CALDESC:Events for Model Cities
REFRESH-INTERVAL;VALUE=DURATION:PT1H
X-Robots-Tag:noindex
X-PUBLISHED-TTL:PT1H
BEGIN:VTIMEZONE
TZID:America/Chicago
BEGIN:DAYLIGHT
TZOFFSETFROM:-0600
TZOFFSETTO:-0500
TZNAME:CDT
DTSTART:20240310T080000
END:DAYLIGHT
BEGIN:STANDARD
TZOFFSETFROM:-0500
TZOFFSETTO:-0600
TZNAME:CST
DTSTART:20241103T070000
END:STANDARD
BEGIN:DAYLIGHT
TZOFFSETFROM:-0600
TZOFFSETTO:-0500
TZNAME:CDT
DTSTART:20250309T080000
END:DAYLIGHT
BEGIN:STANDARD
TZOFFSETFROM:-0500
TZOFFSETTO:-0600
TZNAME:CST
DTSTART:20251102T070000
END:STANDARD
BEGIN:DAYLIGHT
TZOFFSETFROM:-0600
TZOFFSETTO:-0500
TZNAME:CDT
DTSTART:20260308T080000
END:DAYLIGHT
BEGIN:STANDARD
TZOFFSETFROM:-0500
TZOFFSETTO:-0600
TZNAME:CST
DTSTART:20261101T070000
END:STANDARD
END:VTIMEZONE
BEGIN:VEVENT
DTSTART;TZID=America/Chicago:20250817T130000
DTEND;TZID=America/Chicago:20250817T170000
DTSTAMP:20260424T074159
CREATED:20250806T222001Z
LAST-MODIFIED:20250806T222142Z
UID:10000058-1755435600-1755450000@www.modelcities.org
SUMMARY:Central Honors Philando 2025 (Community Event)
DESCRIPTION:Come together to honor Philando Castile! The 10th Annual event takes place on Sunday August 17th from 1-5pm in St Paul in the Arts-Us/Toni Stone Field lot. Connect with the community\, enjoy the entertainment\, learn about ways to get involved\, eat\, and raise money for a scholarship in Philando’s name! Please share and invite your friends. The event is open to the community. \nSunday August 17th from 1-5pm  \nArts-Us/Toni Stone Field lot \n1221 Marshall Avenue\, Saint Paul\, MN 55104 \nPerformances byDJ AdvanceMaydaMaria IsaJamela Pettifordand more! \nHosted by Tish Jones \nSpecial thanks to: Saint Paul Parks and Recreation\, ARTS-Us\, St Paul Central High School \nParking \nArts Us lot\, Central High School lot\, Oxford Community Center Lot\, and street parking where available. \nLearn more: centralhonorsphilando.org \nQuestions? centralhonorsphilando@gmail.com
URL:https://www.modelcities.org/event/central-honors-philando-2025/
LOCATION:Central Honors Philando\, 1221 Marshall Avenue\, Saint Paul\, MN\, 55104
ATTACH;FMTTYPE=image/png:https://www.modelcities.org/wp-content/uploads/2025/08/Central-Honors-Philando-2025-Event.png
ORGANIZER;CN="Central Honors Philando":MAILTO:centralhonorsphilando@gmail.com
END:VEVENT
END:VCALENDAR